BEGIN:VCALENDAR
VERSION:2.0
PRODID:-//Office of Juvenile Justice and Delinquency Prevention//NONSGML Ev
 ent Calendar//EN
BEGIN:VEVENT
UID:10982e4c-db83-4b30-aafd-92c06b814f08
DTSTART;TZID=UTC:20260630T140000
SEQUENCE:0
TRANSP:OPAQUE
DTEND;TZID=UTC:20260630T210000
LOCATION:https://www.ojjdp.ojp.gov/events/child-abuse-suspicion-disclosure-
 8
SUMMARY:Child Abuse: From Suspicion to Disclosure
CLASS:PUBLIC
DESCRIPTION:Más información sobre este evento: https://www.ojjdp.ojp.gov/
 events/child-abuse-suspicion-disclosure-8
DTSTAMP:20260425T224548Z
END:VEVENT
END:VCALENDAR