BEGIN:VCALENDAR
VERSION:2.0
PRODID:-//Office of Juvenile Justice and Delinquency Prevention//NONSGML Ev
 ent Calendar//EN
BEGIN:VEVENT
UID:51174881-c75c-4326-a8c4-2ca3df09daf7
DTSTART;TZID=UTC:20260708T130000
SEQUENCE:0
TRANSP:OPAQUE
DTEND;TZID=UTC:20260709T200000
LOCATION:https://www.ojjdp.ojp.gov/events/presenting-evidence-child-forensi
 c-interviews-11
SUMMARY:Presenting Evidence in Child Forensic Interviews
CLASS:PUBLIC
DESCRIPTION:Más información sobre este evento: https://www.ojjdp.ojp.gov/
 events/presenting-evidence-child-forensic-interviews-11
DTSTAMP:20260425T085914Z
END:VEVENT
END:VCALENDAR