BEGIN:VCALENDAR
VERSION:2.0
PRODID:-//Office of Juvenile Justice and Delinquency Prevention//NONSGML Ev
 ent Calendar//EN
BEGIN:VEVENT
UID:a66bab5b-4f7a-478c-90ee-735d4c103b71
DTSTART;TZID=UTC:20260619T130000
SEQUENCE:0
TRANSP:OPAQUE
DTEND;TZID=UTC:20260619T220000
LOCATION:https://www.ojjdp.ojp.gov/events/initial-response-strategies-and-t
 actics-when-responding-missing-children-incidents-38
SUMMARY:Initial Response Strategies and Tactics When Responding to Missing 
 Children Incidents
CLASS:PUBLIC
DESCRIPTION:Más información sobre este evento: https://www.ojjdp.ojp.gov/
 events/initial-response-strategies-and-tactics-when-responding-missing-chi
 ldren-incidents-38
DTSTAMP:20260425T224743Z
END:VEVENT
END:VCALENDAR