BEGIN:VCALENDAR
VERSION:2.0
PRODID:-//Office of Juvenile Justice and Delinquency Prevention//NONSGML Ev
 ent Calendar//EN
BEGIN:VEVENT
UID:b971404a-1a62-49d0-9578-62db2a0167dc
DTSTART;TZID=UTC:20260721T140000
SEQUENCE:0
TRANSP:OPAQUE
DTEND;TZID=UTC:20260721T210000
LOCATION:https://www.ojjdp.ojp.gov/events/investigative-considerations-ipho
 ne-and-other-ios-devices-0
SUMMARY:Investigative Considerations with iPhone and Other iOS Devices
CLASS:PUBLIC
DESCRIPTION:Más información sobre este evento: https://www.ojjdp.ojp.gov/
 events/investigative-considerations-iphone-and-other-ios-devices-0
DTSTAMP:20260425T224755Z
END:VEVENT
END:VCALENDAR