BEGIN:VCALENDAR
VERSION:2.0
PRODID:-//Office of Juvenile Justice and Delinquency Prevention//NONSGML Ev
 ent Calendar//EN
BEGIN:VEVENT
UID:ace73fff-75f2-47c5-ba4a-02a3532faae3
DTSTART;TZID=UTC:20240918T153000
SEQUENCE:0
TRANSP:OPAQUE
DTEND;TZID=UTC:20240919T000000
LOCATION:https://www.ojjdp.ojp.gov/events/shift-wellness-psycho-educational
 -program-53
SUMMARY:SHIFT Wellness Psycho Educational Program
CLASS:PUBLIC
DESCRIPTION:Learn more about this event: https://www.ojjdp.ojp.gov/events/s
 hift-wellness-psycho-educational-program-53
DTSTAMP:20260423T165545Z
END:VEVENT
END:VCALENDAR