BEGIN:VCALENDAR
VERSION:2.0
PRODID:-//Office of Juvenile Justice and Delinquency Prevention//NONSGML Ev
 ent Calendar//EN
BEGIN:VEVENT
UID:acd1a646-08c1-4fcb-bc65-7882679fa91d
DTSTART;TZID=UTC:20250408T150000
SEQUENCE:0
TRANSP:OPAQUE
DTEND;TZID=UTC:20250409T220000
LOCATION:https://www.ojjdp.ojp.gov/events/presenting-evidence-child-forensi
 c-interviews-6
SUMMARY:Presenting Evidence in Child Forensic Interviews
CLASS:PUBLIC
DESCRIPTION:Learn more about this event: https://www.ojjdp.ojp.gov/events/p
 resenting-evidence-child-forensic-interviews-6
DTSTAMP:20260420T203328Z
END:VEVENT
END:VCALENDAR