BEGIN:VCALENDAR
VERSION:2.0
PRODID:-//Office of Juvenile Justice and Delinquency Prevention//NONSGML Ev
 ent Calendar//EN
BEGIN:VEVENT
UID:040e85c1-9662-4527-885d-0efe249782c2
DTSTART;TZID=UTC:20250219T150000
SEQUENCE:0
TRANSP:OPAQUE
DTEND;TZID=UTC:20250220T220000
LOCATION:https://www.ojjdp.ojp.gov/events/presenting-evidence-child-forensi
 c-interviews-5
SUMMARY:Presenting Evidence in Child Forensic Interviews
CLASS:PUBLIC
DESCRIPTION:Learn more about this event: https://www.ojjdp.ojp.gov/events/p
 resenting-evidence-child-forensic-interviews-5
DTSTAMP:20260420T203341Z
END:VEVENT
END:VCALENDAR