BEGIN:VCALENDAR
VERSION:2.0
PRODID:-//Office of Juvenile Justice and Delinquency Prevention//NONSGML Ev
 ent Calendar//EN
BEGIN:VEVENT
UID:1b4cb38a-9692-4b26-928c-e31b5ecdaa19
DTSTART;TZID=UTC:20250513T130000
SEQUENCE:0
TRANSP:OPAQUE
DTEND;TZID=UTC:20250513T210000
LOCATION:https://www.ojjdp.ojp.gov/events/shift-wellness-psycho-educational
 -program-11
SUMMARY:SHIFT Wellness Psycho Educational Program
CLASS:PUBLIC
DESCRIPTION:Learn more about this event: https://www.ojjdp.ojp.gov/events/s
 hift-wellness-psycho-educational-program-11
DTSTAMP:20260423T165545Z
END:VEVENT
END:VCALENDAR