BEGIN:VCALENDAR
VERSION:2.0
PRODID:-//Office of Juvenile Justice and Delinquency Prevention//NONSGML Ev
 ent Calendar//EN
BEGIN:VEVENT
UID:9c2c58e3-6403-4fa8-87bb-1519b818c0b5
DTSTART;TZID=UTC:20250624T140000
SEQUENCE:0
TRANSP:OPAQUE
DTEND;TZID=UTC:20250624T220000
LOCATION:https://www.ojjdp.ojp.gov/events/responding-sextortion-related-off
 enses-against-children-10
SUMMARY:Responding to Sextortion Related Offenses Against Children
CLASS:PUBLIC
DESCRIPTION:Learn more about this event: https://www.ojjdp.ojp.gov/events/r
 esponding-sextortion-related-offenses-against-children-10
DTSTAMP:20260420T203601Z
END:VEVENT
END:VCALENDAR