BEGIN:VCALENDAR
VERSION:2.0
PRODID:-//Office of Juvenile Justice and Delinquency Prevention//NONSGML Ev
 ent Calendar//EN
BEGIN:VEVENT
UID:6576d7e8-109f-4264-bf80-453c172265f4
DTSTART;TZID=UTC:20250924T150000
SEQUENCE:0
TRANSP:OPAQUE
DTEND;TZID=UTC:20250926T233000
LOCATION:https://www.ojjdp.ojp.gov/events/cst-forensic-interview-training-1
SUMMARY:CST Forensic Interview Training
CLASS:PUBLIC
DESCRIPTION:Learn more about this event: https://www.ojjdp.ojp.gov/events/c
 st-forensic-interview-training-1
DTSTAMP:20260420T113029Z
END:VEVENT
END:VCALENDAR