BEGIN:VCALENDAR
VERSION:2.0
PRODID:-//Office of Juvenile Justice and Delinquency Prevention//NONSGML Ev
 ent Calendar//EN
BEGIN:VEVENT
UID:3d5759d3-e9a1-441a-a25e-54d069815237
DTSTART;TZID=UTC:20250623T130000
SEQUENCE:0
TRANSP:OPAQUE
DTEND;TZID=UTC:20250625T220000
LOCATION:https://www.ojjdp.ojp.gov/events/intermediate-cyber-investigations
 -online-open-source-investigations
SUMMARY:Intermediate Cyber Investigations: Online Open Source Investigation
 s
CLASS:PUBLIC
DESCRIPTION:Learn more about this event: https://www.ojjdp.ojp.gov/events/i
 ntermediate-cyber-investigations-online-open-source-investigations
DTSTAMP:20260419T055702Z
END:VEVENT
END:VCALENDAR