BEGIN:VCALENDAR
VERSION:2.0
PRODID:-//Office of Juvenile Justice and Delinquency Prevention//NONSGML Ev
 ent Calendar//EN
BEGIN:VEVENT
UID:abf0a308-3d23-4be6-928e-db172c2c58f3
DTSTART;TZID=UTC:20250625T150000
SEQUENCE:0
TRANSP:OPAQUE
DTEND;TZID=UTC:20250625T230000
LOCATION:https://www.ojjdp.ojp.gov/events/basic-cyber-investigations-digita
 l-footprints
SUMMARY:Basic Cyber Investigations: Digital Footprints
CLASS:PUBLIC
DESCRIPTION:Learn more about this event: https://www.ojjdp.ojp.gov/events/b
 asic-cyber-investigations-digital-footprints
DTSTAMP:20260420T180507Z
END:VEVENT
END:VCALENDAR