BEGIN:VCALENDAR
VERSION:2.0
PRODID:-//Office of Juvenile Justice and Delinquency Prevention//NONSGML Ev
 ent Calendar//EN
BEGIN:VEVENT
UID:09fad924-38e5-4649-b103-78b046e7d34f
DTSTART;TZID=UTC:20250728T163000
SEQUENCE:0
TRANSP:OPAQUE
DTEND;TZID=UTC:20250728T203000
LOCATION:https://www.ojjdp.ojp.gov/events/child-abduction-tabletop-exercise
 -indian-country-1
SUMMARY:Child Abduction Tabletop Exercise in Indian Country
CLASS:PUBLIC
DESCRIPTION:Learn more about this event: https://www.ojjdp.ojp.gov/events/c
 hild-abduction-tabletop-exercise-indian-country-1
DTSTAMP:20260422T231028Z
END:VEVENT
END:VCALENDAR