BEGIN:VCALENDAR
VERSION:2.0
PRODID:-//Office of Juvenile Justice and Delinquency Prevention//NONSGML Ev
 ent Calendar//EN
BEGIN:VEVENT
UID:ba39ce9e-de29-4f9a-8265-344944bea5be
DTSTART;TZID=UTC:20251201T143000
SEQUENCE:0
TRANSP:OPAQUE
DTEND;TZID=UTC:20251205T180000
LOCATION:https://www.ojjdp.ojp.gov/events/conducting-child-abuse-investigat
 ions-10
SUMMARY:Conducting Child Abuse Investigations
CLASS:PUBLIC
DESCRIPTION:Learn more about this event: https://www.ojjdp.ojp.gov/events/c
 onducting-child-abuse-investigations-10
DTSTAMP:20260420T202707Z
END:VEVENT
END:VCALENDAR