BEGIN:VCALENDAR
VERSION:2.0
PRODID:-//Office of Juvenile Justice and Delinquency Prevention//NONSGML Ev
 ent Calendar//EN
BEGIN:VEVENT
UID:99377f48-df96-435d-babf-d94dd04e16ab
DTSTART;TZID=UTC:20250828T180000
SEQUENCE:0
TRANSP:OPAQUE
DTEND;TZID=UTC:20250828T190000
LOCATION:https://www.ojjdp.ojp.gov/events/navigating-peer-review-initiative
 s-forensic-interviewing
SUMMARY:Navigating Peer Review Initiatives in Forensic Interviewing
CLASS:PUBLIC
DESCRIPTION:Learn more about this event: https://www.ojjdp.ojp.gov/events/n
 avigating-peer-review-initiatives-forensic-interviewing
DTSTAMP:20260421T024243Z
END:VEVENT
END:VCALENDAR