BEGIN:VCALENDAR
VERSION:2.0
PRODID:-//Office of Juvenile Justice and Delinquency Prevention//NONSGML Ev
 ent Calendar//EN
BEGIN:VEVENT
UID:214a01db-d8b7-40a5-a4bc-8d67910f9f72
DTSTART;TZID=UTC:20250507T140000
SEQUENCE:0
TRANSP:OPAQUE
DTEND;TZID=UTC:20250507T220000
LOCATION:https://www.ojjdp.ojp.gov/events/responding-sextortion-related-off
 enses-against-children-10
SUMMARY:Responding to Sextortion Related Offenses Against Children
CLASS:PUBLIC
DESCRIPTION:Learn more about this event: https://www.ojjdp.ojp.gov/events/r
 esponding-sextortion-related-offenses-against-children-10
DTSTAMP:20260420T203431Z
END:VEVENT
END:VCALENDAR